BEGIN:VCALENDAR
VERSION:2.0
PRODID:-//Apocalyptica//NONSGML Apocalyptica//EN
METHOD:PUBLISH
BEGIN:VEVENT
UID:20260420T203319Z-16562518-www.apocalyptica.com
URL:https://www.apocalyptica.com/dates/apocalyptica-dates-24-jun-2023-ch-gr-20--765-.html
DTSTAMP:20260420T203319Z
DTSTART:20230624T180000Z
DTEND:20230624T180000Z
SUMMARY:APOCALYPTICA | Dates | 24 Jun 2023 (CH) Grenchen\, SO\, Summerside Festival
DESCRIPTION:For tickets and more Apocalyptica-dates check https://www.apocalyptica.com/dates/
LOCATION:Summerside Festival\, Grenchen\, SO\, Switzerland
END:VEVENT
END:VCALENDAR
