BEGIN:VCALENDAR
VERSION:2.0
PRODID:-//Apocalyptica//NONSGML Apocalyptica//EN
METHOD:PUBLISH
BEGIN:VEVENT
UID:20260420T203355Z-1860211832-www.apocalyptica.com
URL:https://www.apocalyptica.com/dates/apocalyptica-dates-22-apr-2023-co-bo-20--769-.html
DTSTAMP:20260420T203355Z
DTSTART:20230422T180000Z
DTEND:20230422T180000Z
SUMMARY:APOCALYPTICA | Dates | 22 Apr 2023 (CO) Bogotá\, Teatro Royal Center
DESCRIPTION:For tickets and more Apocalyptica-dates check https://www.apocalyptica.com/dates/
LOCATION:Teatro Royal Center\, Bogotá\, Colombia
END:VEVENT
END:VCALENDAR
