BEGIN:VCALENDAR
VERSION:2.0
PRODID:-//Apocalyptica//NONSGML Apocalyptica//EN
METHOD:PUBLISH
BEGIN:VEVENT
UID:20260420T203243Z-835376360-www.apocalyptica.com
URL:https://www.apocalyptica.com/dates/apocalyptica-dates-21-apr-2023-ec-qu-20--771-.html
DTSTAMP:20260420T203243Z
DTSTART:20230421T180000Z
DTEND:20230421T180000Z
SUMMARY:APOCALYPTICA | Dates | 21 Apr 2023 (EC) Quito\, Explanada Parque Bicentenario
DESCRIPTION:For tickets and more Apocalyptica-dates check https://www.apocalyptica.com/dates/
LOCATION:Explanada Parque Bicentenario\, Quito\, Ecuador
END:VEVENT
END:VCALENDAR
