BEGIN:VCALENDAR
VERSION:2.0
PRODID:-//Apocalyptica//NONSGML Apocalyptica//EN
METHOD:PUBLISH
BEGIN:VEVENT
UID:20260420T203126Z-2115747865-www.apocalyptica.com
URL:https://www.apocalyptica.com/dates/apocalyptica-dates-25-apr-2023-pe-li-20--772-.html
DTSTAMP:20260420T203126Z
DTSTART:20230425T180000Z
DTEND:20230425T180000Z
SUMMARY:APOCALYPTICA | Dates | 25 Apr 2023 (PE) Lima\, C.C Barranco
DESCRIPTION:For tickets and more Apocalyptica-dates check https://www.apocalyptica.com/dates/
LOCATION:C.C Barranco\, Lima\, Peru
END:VEVENT
END:VCALENDAR
