BEGIN:VCALENDAR
VERSION:2.0
PRODID:-//Apocalyptica//NONSGML Apocalyptica//EN
METHOD:PUBLISH
BEGIN:VEVENT
UID:20260420T203218Z-1527403471-www.apocalyptica.com
URL:https://www.apocalyptica.com/dates/apocalyptica-dates-29-apr-2023-br-sa-20--774-.html
DTSTAMP:20260420T203218Z
DTSTART:20230429T180000Z
DTEND:20230429T180000Z
SUMMARY:APOCALYPTICA | Dates | 29 Apr 2023 (BR) Sao Paulo\, Summer Breeze
DESCRIPTION:For tickets and more Apocalyptica-dates check https://www.apocalyptica.com/dates/
LOCATION:Summer Breeze\, Sao Paulo\, Brazil
END:VEVENT
END:VCALENDAR
