BEGIN:VCALENDAR
VERSION:2.0
PRODID:-//Apocalyptica//NONSGML Apocalyptica//EN
METHOD:PUBLISH
BEGIN:VEVENT
UID:20260420T203243Z-168480068-www.apocalyptica.com
URL:https://www.apocalyptica.com/dates/apocalyptica-dates-03-jun-2023-pl-bo-20--775-.html
DTSTAMP:20260420T203243Z
DTSTART:20230603T180000Z
DTEND:20230603T180000Z
SUMMARY:APOCALYPTICA | Dates | 03 Jun 2023 (PL) Borowice\, 4th Kalevala Spirit Festival
DESCRIPTION:For tickets and more Apocalyptica-dates check https://www.apocalyptica.com/dates/
LOCATION:4th Kalevala Spirit Festival\, Borowice\, Poland
END:VEVENT
END:VCALENDAR
