BEGIN:VCALENDAR
VERSION:2.0
PRODID:-//Apocalyptica//NONSGML Apocalyptica//EN
METHOD:PUBLISH
BEGIN:VEVENT
UID:20260421T081946Z-1787269293-www.apocalyptica.com
URL:https://www.apocalyptica.com/dates/apocalyptica-dates-29-jul-2023-fi-ku-20--776-.html
DTSTAMP:20260421T081946Z
DTSTART:20230729T180000Z
DTEND:20230729T180000Z
SUMMARY:APOCALYPTICA | Dates | 29 Jul 2023 (FI) Kuopio\, Kuopiorock
DESCRIPTION:For tickets and more Apocalyptica-dates check https://www.apocalyptica.com/dates/
LOCATION:Kuopiorock\, Kuopio\, Finland
END:VEVENT
END:VCALENDAR
