BEGIN:VCALENDAR
VERSION:2.0
PRODID:-//Apocalyptica//NONSGML Apocalyptica//EN
METHOD:PUBLISH
BEGIN:VEVENT
UID:20260420T203050Z-1520727115-www.apocalyptica.com
URL:https://www.apocalyptica.com/dates/apocalyptica-dates-31-mar-2023-fi-ke-20--778-.html
DTSTAMP:20260420T203050Z
DTSTART:20230331T180000Z
DTEND:20230331T180000Z
SUMMARY:APOCALYPTICA | Dates | 31 Mar 2023 (FI) Kempele\, ZRock
DESCRIPTION:For tickets and more Apocalyptica-dates check https://www.apocalyptica.com/dates/
LOCATION:ZRock\, Kempele\, Finland
END:VEVENT
END:VCALENDAR
