BEGIN:VCALENDAR
VERSION:2.0
PRODID:-//Apocalyptica//NONSGML Apocalyptica//EN
METHOD:PUBLISH
BEGIN:VEVENT
UID:20260420T203319Z-1056742163-www.apocalyptica.com
URL:https://www.apocalyptica.com/dates/apocalyptica-dates-23-apr-2023-cr-sa-20--780-.html
DTSTAMP:20260420T203319Z
DTSTART:20230423T180000Z
DTEND:20230423T180000Z
SUMMARY:APOCALYPTICA | Dates | 23 Apr 2023 (CR) San Jose\, Centro de eventos Pedregal
DESCRIPTION:For tickets and more Apocalyptica-dates check https://www.apocalyptica.com/dates/
LOCATION:Centro de eventos Pedregal\, San Jose\, Costa Rica
END:VEVENT
END:VCALENDAR
