BEGIN:VCALENDAR
VERSION:2.0
PRODID:-//Apocalyptica//NONSGML Apocalyptica//EN
METHOD:PUBLISH
BEGIN:VEVENT
UID:20260420T203218Z-2064491544-www.apocalyptica.com
URL:https://www.apocalyptica.com/dates/apocalyptica-dates-01-aug-2023-fi-va-20--781-.html
DTSTAMP:20260420T203218Z
DTSTART:20230801T180000Z
DTEND:20230801T180000Z
SUMMARY:APOCALYPTICA | Dates | 01 Aug 2023 (FI) Vaasa\, Korsholm Music Festival
DESCRIPTION:For tickets and more Apocalyptica-dates check https://www.apocalyptica.com/dates/
LOCATION:Korsholm Music Festival\, Vaasa\, Finland
END:VEVENT
END:VCALENDAR
