BEGIN:VCALENDAR
VERSION:2.0
PRODID:-//Apocalyptica//NONSGML Apocalyptica//EN
METHOD:PUBLISH
BEGIN:VEVENT
UID:20260421T170929Z-816126650-www.apocalyptica.com
URL:https://www.apocalyptica.com/dates/apocalyptica-dates-17-nov-2023-fi-la-20--785-.html
DTSTAMP:20260421T170929Z
DTSTART:20231117T000000Z
DTEND:20231117T200000Z
SUMMARY:APOCALYPTICA | Dates | 17 Nov 2023 (FI) Lahti\, Lahden Ristinkirkko
DESCRIPTION:For tickets and more Apocalyptica-dates check https://www.apocalyptica.com/dates/
LOCATION:Lahden Ristinkirkko\, Lahti\, Finland
END:VEVENT
END:VCALENDAR
