BEGIN:VCALENDAR
VERSION:2.0
PRODID:-//Apocalyptica//NONSGML Apocalyptica//EN
METHOD:PUBLISH
BEGIN:VEVENT
UID:20260422T180312Z-249865806-www.apocalyptica.com
URL:https://www.apocalyptica.com/dates/apocalyptica-dates-21-nov-2023-fi-ta-20--788-.html
DTSTAMP:20260422T180312Z
DTSTART:20231121T180000Z
DTEND:20231121T200000Z
SUMMARY:APOCALYPTICA | Dates | 21 Nov 2023 (FI) Tampere\, Tampereen tuomiokirkk
DESCRIPTION:For tickets and more Apocalyptica-dates check https://www.apocalyptica.com/dates/
LOCATION:Tampereen tuomiokirkk\, Tampere\, Finland
END:VEVENT
END:VCALENDAR
