BEGIN:VCALENDAR
VERSION:2.0
PRODID:-//Apocalyptica//NONSGML Apocalyptica//EN
METHOD:PUBLISH
BEGIN:VEVENT
UID:20260419T215715Z-21149451-www.apocalyptica.com
URL:https://www.apocalyptica.com/dates/apocalyptica-dates-27-jan-2024-mx-gu-21--794-.html
DTSTAMP:20260419T215715Z
DTSTART:20240127T180000Z
DTEND:20240127T230000Z
SUMMARY:APOCALYPTICA | Dates | 27 Jan 2024 (MX) Guadalajara\, Guanamor Teatro Studio
DESCRIPTION:For tickets and more Apocalyptica-dates check https://www.apocalyptica.com/dates/
LOCATION:Guanamor Teatro Studio\, Guadalajara\, Mexico
END:VEVENT
END:VCALENDAR
