BEGIN:VCALENDAR
VERSION:2.0
PRODID:-//Apocalyptica//NONSGML Apocalyptica//EN
METHOD:PUBLISH
BEGIN:VEVENT
UID:20260419T135801Z-734117818-www.apocalyptica.com
URL:https://www.apocalyptica.com/dates/apocalyptica-dates-02-feb-2024-mx-ch-21--797-.html
DTSTAMP:20260419T135801Z
DTSTART:20240202T180000Z
DTEND:20240202T230000Z
SUMMARY:APOCALYPTICA | Dates | 02 Feb 2024 (MX) Chihuahua\, Pistoleros
DESCRIPTION:For tickets and more Apocalyptica-dates check https://www.apocalyptica.com/dates/
LOCATION:Pistoleros\, Chihuahua\, Mexico
END:VEVENT
END:VCALENDAR
