BEGIN:VCALENDAR
VERSION:2.0
PRODID:-//Apocalyptica//NONSGML Apocalyptica//EN
METHOD:PUBLISH
BEGIN:VEVENT
UID:20260419T220007Z-1734127356-www.apocalyptica.com
URL:https://www.apocalyptica.com/dates/apocalyptica-dates-03-feb-2024-mx-ci-21--798-.html
DTSTAMP:20260419T220007Z
DTSTART:20240203T180000Z
DTEND:20240203T230000Z
SUMMARY:APOCALYPTICA | Dates | 03 Feb 2024 (MX) Ciudad Juárez\, Centro Cultural Paso Del Norte
DESCRIPTION:For tickets and more Apocalyptica-dates check https://www.apocalyptica.com/dates/
LOCATION:Centro Cultural Paso Del Norte\, Ciudad Juárez\, Mexico
END:VEVENT
END:VCALENDAR
