BEGIN:VCALENDAR
VERSION:2.0
PRODID:-//Apocalyptica//NONSGML Apocalyptica//EN
METHOD:PUBLISH
BEGIN:VEVENT
UID:20260419T215847Z-220592591-www.apocalyptica.com
URL:https://www.apocalyptica.com/dates/apocalyptica-dates-07-feb-2024-mx-ag-21--799-.html
DTSTAMP:20260419T215847Z
DTSTART:20240207T180000Z
DTEND:20240207T230000Z
SUMMARY:APOCALYPTICA | Dates | 07 Feb 2024 (MX) Aguascalientes\, Auditoria Dimo
DESCRIPTION:For tickets and more Apocalyptica-dates check https://www.apocalyptica.com/dates/
LOCATION:Auditoria Dimo\, Aguascalientes\, Mexico
END:VEVENT
END:VCALENDAR
