BEGIN:VCALENDAR
VERSION:2.0
PRODID:-//Apocalyptica//NONSGML Apocalyptica//EN
METHOD:PUBLISH
BEGIN:VEVENT
UID:20260419T215836Z-327366837-www.apocalyptica.com
URL:https://www.apocalyptica.com/dates/apocalyptica-dates-08-feb-2024-mx-le-21--800-.html
DTSTAMP:20260419T215836Z
DTSTART:20240208T180000Z
DTEND:20240208T180000Z
SUMMARY:APOCALYPTICA | Dates | 08 Feb 2024 (MX) León\, Gto.\, Teatro Manuel Doblado
DESCRIPTION:For tickets and more Apocalyptica-dates check https://www.apocalyptica.com/dates/
LOCATION:Teatro Manuel Doblado\, León\, Gto.\, Mexico
END:VEVENT
END:VCALENDAR
