BEGIN:VCALENDAR
VERSION:2.0
PRODID:-//Apocalyptica//NONSGML Apocalyptica//EN
METHOD:PUBLISH
BEGIN:VEVENT
UID:20260419T215715Z-815773734-www.apocalyptica.com
URL:https://www.apocalyptica.com/dates/apocalyptica-dates-09-feb-2024-mx-sa-21--801-.html
DTSTAMP:20260419T215715Z
DTSTART:20240209T180000Z
DTEND:20240209T180000Z
SUMMARY:APOCALYPTICA | Dates | 09 Feb 2024 (MX) San Luis Potosi\, Centro De Las Artes
DESCRIPTION:For tickets and more Apocalyptica-dates check https://www.apocalyptica.com/dates/
LOCATION:Centro De Las Artes\, San Luis Potosi\, Mexico
END:VEVENT
END:VCALENDAR
