BEGIN:VCALENDAR
VERSION:2.0
PRODID:-//Apocalyptica//NONSGML Apocalyptica//EN
METHOD:PUBLISH
BEGIN:VEVENT
UID:20260419T215836Z-1482825236-www.apocalyptica.com
URL:https://www.apocalyptica.com/dates/apocalyptica-dates-10-feb-2024-mx-qu-21--802-.html
DTSTAMP:20260419T215836Z
DTSTART:20240210T180000Z
DTEND:20240210T180000Z
SUMMARY:APOCALYPTICA | Dates | 10 Feb 2024 (MX) Querétaro\, Auditorio Josefa Ortiz
DESCRIPTION:For tickets and more Apocalyptica-dates check https://www.apocalyptica.com/dates/
LOCATION:Auditorio Josefa Ortiz\, Querétaro\, Mexico
END:VEVENT
END:VCALENDAR
