BEGIN:VCALENDAR
VERSION:2.0
PRODID:-//Apocalyptica//NONSGML Apocalyptica//EN
METHOD:PUBLISH
BEGIN:VEVENT
UID:20260419T215914Z-969400841-www.apocalyptica.com
URL:https://www.apocalyptica.com/dates/apocalyptica-dates-11-feb-2024-mx-pa-21--803-.html
DTSTAMP:20260419T215914Z
DTSTART:20240211T180000Z
DTEND:20240211T230000Z
SUMMARY:APOCALYPTICA | Dates | 11 Feb 2024 (MX) Pachuca\, Explanada Pachuca
DESCRIPTION:For tickets and more Apocalyptica-dates check https://www.apocalyptica.com/dates/
LOCATION:Explanada Pachuca\, Pachuca\, Mexico
END:VEVENT
END:VCALENDAR
