BEGIN:VCALENDAR
VERSION:2.0
PRODID:-//Apocalyptica//NONSGML Apocalyptica//EN
METHOD:PUBLISH
BEGIN:VEVENT
UID:20260419T215955Z-626085699-www.apocalyptica.com
URL:https://www.apocalyptica.com/dates/apocalyptica-dates-13-feb-2024-mx-cu-21--804-.html
DTSTAMP:20260419T215955Z
DTSTART:20240213T180000Z
DTEND:20240213T230000Z
SUMMARY:APOCALYPTICA | Dates | 13 Feb 2024 (MX) Cuernavaca\, Teatro Ocampo
DESCRIPTION:For tickets and more Apocalyptica-dates check https://www.apocalyptica.com/dates/
LOCATION:Teatro Ocampo\, Cuernavaca\, Mexico
END:VEVENT
END:VCALENDAR
