BEGIN:VCALENDAR
VERSION:2.0
PRODID:-//Apocalyptica//NONSGML Apocalyptica//EN
METHOD:PUBLISH
BEGIN:VEVENT
UID:20260419T220049Z-37319085-www.apocalyptica.com
URL:https://www.apocalyptica.com/dates/apocalyptica-dates-15-feb-2024-mx-to-21--812-.html
DTSTAMP:20260419T220049Z
DTSTART:20240215T180000Z
DTEND:20240215T180000Z
SUMMARY:APOCALYPTICA | Dates | 15 Feb 2024 (MX) Toluca\, Teatro Morelos
DESCRIPTION:For tickets and more Apocalyptica-dates check https://www.apocalyptica.com/dates/
LOCATION:Teatro Morelos\, Toluca\, Mexico
END:VEVENT
END:VCALENDAR
