BEGIN:VCALENDAR
VERSION:2.0
PRODID:-//Apocalyptica//NONSGML Apocalyptica//EN
METHOD:PUBLISH
BEGIN:VEVENT
UID:20260424T053749Z-1242124614-www.apocalyptica.com
URL:https://www.apocalyptica.com/dates/apocalyptica-dates-04-oct-2024-gb-no-21--827-.html
DTSTAMP:20260424T053749Z
DTSTART:20241004T200000Z
DTEND:20241004T200000Z
SUMMARY:APOCALYPTICA | Dates | 04 Oct 2024 (GB) Nottingham\, Rock City
DESCRIPTION:For tickets and more Apocalyptica-dates check https://www.apocalyptica.com/dates/
LOCATION:Rock City\, Nottingham\, United Kingdom
END:VEVENT
END:VCALENDAR
