BEGIN:VCALENDAR
VERSION:2.0
PRODID:-//Apocalyptica//NONSGML Apocalyptica//EN
METHOD:PUBLISH
BEGIN:VEVENT
UID:20260425T005917Z-74932340-www.apocalyptica.com
URL:https://www.apocalyptica.com/dates/apocalyptica-dates-20-nov-2024-fr-ma-21--851-.html
DTSTAMP:20260425T005917Z
DTSTART:20241120T200000Z
DTEND:20241120T200000Z
SUMMARY:APOCALYPTICA | Dates | 20 Nov 2024 (FR) Marseille\, Espace Julien
DESCRIPTION:For tickets and more Apocalyptica-dates check https://www.apocalyptica.com/dates/
LOCATION:Espace Julien\, Marseille\, France
END:VEVENT
END:VCALENDAR
