BEGIN:VCALENDAR
VERSION:2.0
PRODID:-//Apocalyptica//NONSGML Apocalyptica//EN
METHOD:PUBLISH
BEGIN:VEVENT
UID:20260423T104337Z-298062290-www.apocalyptica.com
URL:https://www.apocalyptica.com/dates/apocalyptica-dates-24-jan-2025-fi-ku-22--866-.html
DTSTAMP:20260423T104337Z
DTSTART:20250124T200000Z
DTEND:20250124T200000Z
SUMMARY:APOCALYPTICA | Dates | 24 Jan 2025 (FI) Kuopio\, Musiikkikeskus
DESCRIPTION:For tickets and more Apocalyptica-dates check https://www.apocalyptica.com/dates/
LOCATION:Musiikkikeskus\, Kuopio\, Finland
END:VEVENT
END:VCALENDAR
