BEGIN:VCALENDAR
VERSION:2.0
PRODID:-//Apocalyptica//NONSGML Apocalyptica//EN
METHOD:PUBLISH
BEGIN:VEVENT
UID:20260423T070333Z-168945875-www.apocalyptica.com
URL:https://www.apocalyptica.com/dates/apocalyptica-dates-06-feb-2025-us-wa-22--868-.html
DTSTAMP:20260423T070333Z
DTSTART:20250206T200000Z
DTEND:20250206T200000Z
SUMMARY:APOCALYPTICA | Dates | 06 Feb 2025 (US) Washington\, DC\, Warner Theatre
DESCRIPTION:For tickets and more Apocalyptica-dates check https://www.apocalyptica.com/dates/
LOCATION:Warner Theatre\, Washington\, DC\, United States of America
END:VEVENT
END:VCALENDAR
