BEGIN:VCALENDAR
VERSION:2.0
PRODID:-//Apocalyptica//NONSGML Apocalyptica//EN
METHOD:PUBLISH
BEGIN:VEVENT
UID:20260425T145124Z-808294520-www.apocalyptica.com
URL:https://www.apocalyptica.com/dates/apocalyptica-dates-07-feb-2025-us-ph-22--869-.html
DTSTAMP:20260425T145124Z
DTSTART:20250207T200000Z
DTEND:20250207T200000Z
SUMMARY:APOCALYPTICA | Dates | 07 Feb 2025 (US) Philadelphia\, PA\, The Fillmore
DESCRIPTION:For tickets and more Apocalyptica-dates check https://www.apocalyptica.com/dates/
LOCATION:The Fillmore\, Philadelphia\, PA\, United States of America
END:VEVENT
END:VCALENDAR
