BEGIN:VCALENDAR
VERSION:2.0
PRODID:-//Apocalyptica//NONSGML Apocalyptica//EN
METHOD:PUBLISH
BEGIN:VEVENT
UID:20260422T060835Z-532290569-www.apocalyptica.com
URL:https://www.apocalyptica.com/dates/apocalyptica-dates-11-feb-2025-us-br-22--871-.html
DTSTAMP:20260422T060835Z
DTSTART:20250211T200000Z
DTEND:20250211T200000Z
SUMMARY:APOCALYPTICA | Dates | 11 Feb 2025 (US) Brooklyn\, NY\, Brooklyn Paramount
DESCRIPTION:For tickets and more Apocalyptica-dates check https://www.apocalyptica.com/dates/
LOCATION:Brooklyn Paramount\, Brooklyn\, NY\, United States of America
END:VEVENT
END:VCALENDAR
