BEGIN:VCALENDAR
VERSION:2.0
PRODID:-//Apocalyptica//NONSGML Apocalyptica//EN
METHOD:PUBLISH
BEGIN:VEVENT
UID:20260423T182815Z-323490562-www.apocalyptica.com
URL:https://www.apocalyptica.com/dates/apocalyptica-dates-12-jun-2025-at-ni-23--894-.html
DTSTAMP:20260423T182815Z
DTSTART:20250612T180000Z
DTEND:20250612T230000Z
SUMMARY:APOCALYPTICA | Dates | 12 Jun 2025 (AT) Nickelsdorf\, Nova Rock Festival
DESCRIPTION:For tickets and more Apocalyptica-dates check https://www.apocalyptica.com/dates/
LOCATION:Nova Rock Festival\, Nickelsdorf\, Austria
END:VEVENT
END:VCALENDAR
