BEGIN:VCALENDAR
VERSION:2.0
PRODID:-//Apocalyptica//NONSGML Apocalyptica//EN
METHOD:PUBLISH
BEGIN:VEVENT
UID:20260423T002049Z-594664083-www.apocalyptica.com
URL:https://www.apocalyptica.com/dates/apocalyptica-dates-26-jan-2025-fi-he-22--895-.html
DTSTAMP:20260423T002049Z
DTSTART:20250126T180000Z
DTEND:20250126T180000Z
SUMMARY:APOCALYPTICA | Dates | 26 Jan 2025 (FI) Helsinki\, Finlandia-Talo
DESCRIPTION:For tickets and more Apocalyptica-dates check https://www.apocalyptica.com/dates/
LOCATION:Finlandia-Talo\, Helsinki\, Finland
END:VEVENT
END:VCALENDAR
