BEGIN:VCALENDAR
VERSION:2.0
PRODID:-//Apocalyptica//NONSGML Apocalyptica//EN
METHOD:PUBLISH
BEGIN:VEVENT
UID:20260421T082733Z-1656052942-www.apocalyptica.com
URL:https://www.apocalyptica.com/dates/apocalyptica-dates-06-jun-2025-se-so-23--901-.html
DTSTAMP:20260421T082733Z
DTSTART:20250606T000000Z
DTEND:20250606T000000Z
SUMMARY:APOCALYPTICA | Dates | 06 Jun 2025 (SE) Sölvesborg\, Sweden Rock Festival
DESCRIPTION:For tickets and more Apocalyptica-dates check https://www.apocalyptica.com/dates/
LOCATION:Sweden Rock Festival\, Sölvesborg\, Sweden
END:VEVENT
END:VCALENDAR
