BEGIN:VCALENDAR
VERSION:2.0
PRODID:-//Apocalyptica//NONSGML Apocalyptica//EN
METHOD:PUBLISH
BEGIN:VEVENT
UID:20260421T233630Z-1215427522-www.apocalyptica.com
URL:https://www.apocalyptica.com/dates/apocalyptica-dates-02-jul-2025-de-ba-23--915-.html
DTSTAMP:20260421T233630Z
DTSTART:20250702T180000Z
DTEND:20250702T180000Z
SUMMARY:APOCALYPTICA | Dates | 02 Jul 2025 (DE) Ballenstedt\, RockHarz 2025
DESCRIPTION:For tickets and more Apocalyptica-dates check https://www.apocalyptica.com/dates/
LOCATION:RockHarz 2025\, Ballenstedt\, Germany
END:VEVENT
END:VCALENDAR
