BEGIN:VCALENDAR
VERSION:2.0
PRODID:-//Apocalyptica//NONSGML Apocalyptica//EN
METHOD:PUBLISH
BEGIN:VEVENT
UID:20260423T121526Z-2047090467-www.apocalyptica.com
URL:https://www.apocalyptica.com/dates/apocalyptica-dates-22-aug-2025-tr-is-22--919-.html
DTSTAMP:20260423T121526Z
DTSTART:20250822T180000Z
DTEND:20250822T180000Z
SUMMARY:APOCALYPTICA | Dates | 22 Aug 2025 (TR) Istanbul\, KüçükÇiftlik Park
DESCRIPTION:For tickets and more Apocalyptica-dates check https://www.apocalyptica.com/dates/
LOCATION:KüçükÇiftlik Park\, Istanbul\, Türkiye
END:VEVENT
END:VCALENDAR
